BEGIN:VCALENDAR
VERSION:2.0
PRODID:-//67.20.92.214//NONSGML kigkonsult.se iCalcreator 2.26.9//
CALSCALE:GREGORIAN
METHOD:PUBLISH
X-WR-CALNAME:New Mexico State Treasurer’s Office
X-WR-CALDESC:Safety\, Liquidity\, Yield—In That Order
X-FROM-URL:https://nmsto.gov
X-WR-TIMEZONE:America/Denver
BEGIN:VTIMEZONE
TZID:America/Denver
X-LIC-LOCATION:America/Denver
BEGIN:STANDARD
DTSTART:20201101T020000
TZOFFSETFROM:-0600
TZOFFSETTO:-0700
RDATE:20211107T020000,20221106T020000
TZNAME:MST
END:STANDARD
BEGIN:DAYLIGHT
DTSTART:20210314T020000
TZOFFSETFROM:-0700
TZOFFSETTO:-0600
RDATE:20220313T020000
TZNAME:MDT
END:DAYLIGHT
END:VTIMEZONE
BEGIN:VEVENT
UID:ai1ec-4595@www.nmsto.gov
DTSTAMP:20210516T234237Z
CATEGORIES:
CONTACT:
DESCRIPTION:ABLE New Mexico will be at the Developmental Disabilities Plann
 ing Council (DDPC) Advocate Leadership Academy\, 625 Silver Avenue SW\, Su
 ite 100\, Albuquerque\, NM 87102. https://www.nmddpc.com/advocate_leadersh
 ip_academy\n\n  3\,793\,346 total views\,  2\,149 views today
DTSTART;TZID=America/Denver:20190227T143000
DTEND;TZID=America/Denver:20190227T163000
SEQUENCE:0
SUMMARY:ABLE NM at DDPC Advocate Leadership Academy
URL:https://nmsto.gov/event/able-nm-at-ddpc-advocate-leadership-academy/
X-COST-TYPE:free
X-ALT-DESC;FMTTYPE=text/html:<!DOCTYPE HTML PUBLIC '-//W3C//DTD HTML 3.2//E
 N'>\\n<HTML>\\n<HEAD>\\n<TITLE></TITLE>\\n</HEAD>\\n<BODY><p>ABLE New Mexi
 co will be at the Developmental Disabilities Planning Council (DDPC) Advoc
 ate Leadership Academy\, 625 Silver Avenue SW\, Suite 100\, Albuquerque\, 
 NM 87102. <a href='https://www.nmddpc.com/advocate_leadership_academy' tar
 get='_blank' rel='noopener noreferrer'>https://www.nmddpc.com/advocate_lea
 dership_academy</a></p>\n<div class='pvc_clear'></div>\n<p class='pvc_stat
 s all ' data-element-id='66' style=''><i class='pvc-stats-icon small' aria
 -hidden='true'><svg aria-hidden='true' focusable='false' data-prefix='far'
  data-icon='chart-bar' role='img' xmlns='http://www.w3.org/2000/svg' viewB
 ox='0 0 512 512' class='svg-inline--fa fa-chart-bar fa-w-16 fa-2x'><path f
 ill='currentColor' d='M396.8 352h22.4c6.4 0 12.8-6.4 12.8-12.8V108.8c0-6.4
 -6.4-12.8-12.8-12.8h-22.4c-6.4 0-12.8 6.4-12.8 12.8v230.4c0 6.4 6.4 12.8 1
 2.8 12.8zm-192 0h22.4c6.4 0 12.8-6.4 12.8-12.8V140.8c0-6.4-6.4-12.8-12.8-1
 2.8h-22.4c-6.4 0-12.8 6.4-12.8 12.8v198.4c0 6.4 6.4 12.8 12.8 12.8zm96 0h2
 2.4c6.4 0 12.8-6.4 12.8-12.8V204.8c0-6.4-6.4-12.8-12.8-12.8h-22.4c-6.4 0-1
 2.8 6.4-12.8 12.8v134.4c0 6.4 6.4 12.8 12.8 12.8zM496 400H48V80c0-8.84-7.1
 6-16-16-16H16C7.16 64 0 71.16 0 80v336c0 17.67 14.33 32 32 32h464c8.84 0 1
 6-7.16 16-16v-16c0-8.84-7.16-16-16-16zm-387.2-48h22.4c6.4 0 12.8-6.4 12.8-
 12.8v-70.4c0-6.4-6.4-12.8-12.8-12.8h-22.4c-6.4 0-12.8 6.4-12.8 12.8v70.4c0
  6.4 6.4 12.8 12.8 12.8z' class=''></path></svg></i>  3\,793\,346 total vi
 ews\,  2\,149 views today</p>\n<div class='pvc_clear'></div>\n</BODY></HTM
 L>
END:VEVENT
END:VCALENDAR
