BEGIN:VCALENDAR
VERSION:2.0
PRODID:-//67.20.92.214//NONSGML kigkonsult.se iCalcreator 2.26.9//
CALSCALE:GREGORIAN
METHOD:PUBLISH
X-WR-CALNAME:New Mexico State Treasurer’s Office
X-WR-CALDESC:Safety\, Liquidity\, Yield—In That Order
X-FROM-URL:https://nmsto.gov
X-WR-TIMEZONE:America/Denver
BEGIN:VTIMEZONE
TZID:America/Denver
X-LIC-LOCATION:America/Denver
BEGIN:STANDARD
DTSTART:20201101T020000
TZOFFSETFROM:-0600
TZOFFSETTO:-0700
RDATE:20211107T020000,20221106T020000
TZNAME:MST
END:STANDARD
BEGIN:DAYLIGHT
DTSTART:20210314T020000
TZOFFSETFROM:-0700
TZOFFSETTO:-0600
RDATE:20220313T020000
TZNAME:MDT
END:DAYLIGHT
END:VTIMEZONE
BEGIN:VEVENT
UID:ai1ec-7512@nmsto.gov
DTSTAMP:20210505T064236Z
CATEGORIES:
CONTACT:
DESCRIPTION:The STIC will meet via the Zoom videoconference platform\; the 
 public is welcome to attend. For the login information\, please email juli
 e.filatoff@state.nm.us or call (505) 955-1131. The agenda is here (open th
 e current month’s binder): http://www.nmsto.gov/stic-binders/\n\n  3\,768\
 ,304 total views\,  816 views today
DTSTART;TZID=America/Denver:20210310T090000
DTEND;TZID=America/Denver:20210310T110000
SEQUENCE:0
SUMMARY:State Treasurer’s Investment Committee
URL:https://nmsto.gov/event/state-treasurers-investment-committee-17/
X-COST-TYPE:free
X-ALT-DESC;FMTTYPE=text/html:<!DOCTYPE HTML PUBLIC '-//W3C//DTD HTML 3.2//E
 N'>\\n<HTML>\\n<HEAD>\\n<TITLE></TITLE>\\n</HEAD>\\n<BODY><p>The STIC will
  meet via the Zoom videoconference platform\; the public is welcome to att
 end. For the login information\, please email <a href='mailto:julie.filato
 ff@state.nm.us'>julie.filatoff@state.nm.us</a> or call (505) 955-1131. The
  agenda is here (open the current month’s binder): <a href='http://www.nms
 to.gov/stic-binders/' target='_blank' rel='noopener noreferrer'>http://www
 .nmsto.gov/stic-binders/</a></p>\n<div class='pvc_clear'></div>\n<p class=
 'pvc_stats all ' data-element-id='66' style=''><i class='pvc-stats-icon sm
 all' aria-hidden='true'><svg aria-hidden='true' focusable='false' data-pre
 fix='far' data-icon='chart-bar' role='img' xmlns='http://www.w3.org/2000/s
 vg' viewBox='0 0 512 512' class='svg-inline--fa fa-chart-bar fa-w-16 fa-2x
 '><path fill='currentColor' d='M396.8 352h22.4c6.4 0 12.8-6.4 12.8-12.8V10
 8.8c0-6.4-6.4-12.8-12.8-12.8h-22.4c-6.4 0-12.8 6.4-12.8 12.8v230.4c0 6.4 6
 .4 12.8 12.8 12.8zm-192 0h22.4c6.4 0 12.8-6.4 12.8-12.8V140.8c0-6.4-6.4-12
 .8-12.8-12.8h-22.4c-6.4 0-12.8 6.4-12.8 12.8v198.4c0 6.4 6.4 12.8 12.8 12.
 8zm96 0h22.4c6.4 0 12.8-6.4 12.8-12.8V204.8c0-6.4-6.4-12.8-12.8-12.8h-22.4
 c-6.4 0-12.8 6.4-12.8 12.8v134.4c0 6.4 6.4 12.8 12.8 12.8zM496 400H48V80c0
 -8.84-7.16-16-16-16H16C7.16 64 0 71.16 0 80v336c0 17.67 14.33 32 32 32h464
 c8.84 0 16-7.16 16-16v-16c0-8.84-7.16-16-16-16zm-387.2-48h22.4c6.4 0 12.8-
 6.4 12.8-12.8v-70.4c0-6.4-6.4-12.8-12.8-12.8h-22.4c-6.4 0-12.8 6.4-12.8 12
 .8v70.4c0 6.4 6.4 12.8 12.8 12.8z' class=''></path></svg></i>  3\,768\,304
  total views\,  816 views today</p>\n<div class='pvc_clear'></div>\n</BODY
 ></HTML>
END:VEVENT
END:VCALENDAR
