BEGIN:VCALENDAR
VERSION:2.0
PRODID:-//67.20.92.214//NONSGML kigkonsult.se iCalcreator 2.26.9//
CALSCALE:GREGORIAN
METHOD:PUBLISH
X-WR-CALNAME:New Mexico State Treasurer’s Office
X-WR-CALDESC:Safety\, Liquidity\, Yield—In That Order
X-FROM-URL:https://nmsto.gov
X-WR-TIMEZONE:America/Denver
BEGIN:VTIMEZONE
TZID:America/Denver
X-LIC-LOCATION:America/Denver
BEGIN:STANDARD
DTSTART:20201101T020000
TZOFFSETFROM:-0600
TZOFFSETTO:-0700
RDATE:20211107T020000,20221106T020000
TZNAME:MST
END:STANDARD
BEGIN:DAYLIGHT
DTSTART:20210314T020000
TZOFFSETFROM:-0700
TZOFFSETTO:-0600
RDATE:20220313T020000
TZNAME:MDT
END:DAYLIGHT
END:VTIMEZONE
BEGIN:VEVENT
UID:ai1ec-7518@nmsto.gov
DTSTAMP:20210506T041400Z
CATEGORIES:
CONTACT:
DESCRIPTION:<p>The STIC will meet via telephone\; the public is welcome to 
 listen in. For the phone number and passcode\, please email <a href='mailt
 o:julie.filatoff@state.nm.us'>julie.filatoff@state.nm.us</a> or call (505)
  955-1131. The agenda is here (open the current month’s binder): <a href='
 http://www.nmsto.gov/stic-binders/' target='_blank' rel='noopener noreferr
 er'>http://www.nmsto.gov/stic-binders/</a></p>\n<div class='pvc_clear'></d
 iv>\n<p class='pvc_stats all ' data-element-id='66' style=''><i class='pvc
 -stats-icon small' aria-hidden='true'><svg aria-hidden='true' focusable='f
 alse' data-prefix='far' data-icon='chart-bar' role='img' xmlns='http://www
 .w3.org/2000/svg' viewBox='0 0 512 512' class='svg-inline--fa fa-chart-bar
  fa-w-16 fa-2x'><path fill='currentColor' d='M396.8 352h22.4c6.4 0 12.8-6.
 4 12.8-12.8V108.8c0-6.4-6.4-12.8-12.8-12.8h-22.4c-6.4 0-12.8 6.4-12.8 12.8
 v230.4c0 6.4 6.4 12.8 12.8 12.8zm-192 0h22.4c6.4 0 12.8-6.4 12.8-12.8V140.
 8c0-6.4-6.4-12.8-12.8-12.8h-22.4c-6.4 0-12.8 6.4-12.8 12.8v198.4c0 6.4 6.4
  12.8 12.8 12.8zm96 0h22.4c6.4 0 12.8-6.4 12.8-12.8V204.8c0-6.4-6.4-12.8-1
 2.8-12.8h-22.4c-6.4 0-12.8 6.4-12.8 12.8v134.4c0 6.4 6.4 12.8 12.8 12.8zM4
 96 400H48V80c0-8.84-7.16-16-16-16H16C7.16 64 0 71.16 0 80v336c0 17.67 14.3
 3 32 32 32h464c8.84 0 16-7.16 16-16v-16c0-8.84-7.16-16-16-16zm-387.2-48h22
 .4c6.4 0 12.8-6.4 12.8-12.8v-70.4c0-6.4-6.4-12.8-12.8-12.8h-22.4c-6.4 0-12
 .8 6.4-12.8 12.8v70.4c0 6.4 6.4 12.8 12.8 12.8z' class=''></path></svg></i
 >  3\,770\,187 total views\,  343 views today</p>\n<div class='pvc_clear'>
 </div>
DTSTART;TZID=America/Denver:20211013T090000
DTEND;TZID=America/Denver:20211013T110000
SEQUENCE:0
SUMMARY:State Treasurer’s Investment Committee
URL:https://nmsto.gov/event/state-treasurers-investment-committee-23/
X-COST-TYPE:free
END:VEVENT
END:VCALENDAR
